BEGIN:VCALENDAR
VERSION:2.0
PRODID:thomas-rink.de
METHOD:PUBLISH
BEGIN:VTIMEZONE
TZID:Europe/Berlin
X-LIC-LOCATION:Europe/Berlin
BEGIN:DAYLIGHT
TZOFFSETFROM:+0100
TZOFFSETTO:+0200
TZNAME:CEST
DTSTART:19700329T020000
RRULE:FREQ=YEARLY;INTERVAL=1;BYDAY=-1SU;BYMONTH=3
END:DAYLIGHT
BEGIN:STANDARD
TZOFFSETFROM:+0200
TZOFFSETTO:+0100
TZNAME:CET
DTSTART:19701025T030000
RRULE:FREQ=YEARLY;INTERVAL=1;BYDAY=-1SU;BYMONTH=10
END:STANDARD
END:VTIMEZONE
BEGIN:VEVENT
UID:6afc219b3fe2792d0fbfdd7516af6a8c@thomas-rink.de
URL;VALUE=URI:https://thomas-rink.de/termine/schmink-den-rink-in-ketsch/
LOCATION:Marktplatz, Bahnhofsanlage Bruchhäuserstr., Ketsch
SUMMARY:„Schmink den Rink“ in Ketsch
DESCRIPTION;ALTREP="data:text/html,%0A%3Cp%3EDie%20Politik%20trifft%20jed
 en%20Tag%20Entscheidungen%2C%20die%20auch%20f%C3%BCr%20Kinder%20und%20Jug
 endliche%20wichtig%20sind.%20Gleichzeitig%20kommen%20Kinder%20in%20der%20
 politischen%20Diskussion%20viel%20zu%20selten%20vor.%20Das%20m%C3%B6chten
 %20wir%20%C3%A4ndern.%20%3C%2Fp%3E%0A%0A%0A%0A%3Cp%3EEinen%20ersten%20Sch
 ritt%20machen%20wir%20am%20Donnerstag%2C%20den%2013.%20Februar%20von%2015
 -16%3A30%20auf%20dem%20Ketscher%20Wochenmarkt.%20Denn%20auch%20wenn%20Kin
 der%20bei%20der%20Bundestagswahl%20leider%20nicht%20wahlberechtigt%20sind
 %2C%20ist%20ihre%20Stimme%20wichtig.%3Cbr%3EDeshalb%20freuen%20wir%20uns%
 20zu%20diesem%20Termin%20besonders%20%C3%BCber%20Kinder%20und%20Familien%
 20an%20unserem%20Stand%20am%20fr%C3%BChen%20Nachmittag.%3Cbr%3EUnser%20Bu
 ndestagskandidat%20Dr.%20Thomas%20Rink%20steht%20f%C3%BCr%20eure%20Fragen
 %20zur%20Verf%C3%BCgung.%20%3C%2Fp%3E%0A%0A%0A%0A%3Cp%3EKeine%20Lust%20au
 f%20langweiliges%20Blabla%3F%20Dann%20malt%20mit%20uns%20die%20Welt%20wie
 %20sie%20Euch%20gef%C3%A4llt.%20Kommt%20vorbei%20und%20lasst%20Euch%20%C3
 %BCberraschen%21%3C%2Fp%3E%0A%0A%0A%0A%3Cp%3EDie%20Gr%C3%BCnen%20Ketsch%2
 0und%20Euer%20Gr%C3%BCner%20Bundestagskandidat%20freuen%20sich%20auf%20Eu
 ch%21%3C%2Fp%3E%0A%0A%0A%0A%3Cp%3E%3C%2Fp%3E%0A":Die Politik trifft jeden
  Tag Entscheidungen\, die auch für Kinder und Jugendliche wichtig sind. 
 Gleichzeitig kommen Kinder in der politischen Diskussion viel zu selten v
 or. Das möchten wir ändern.\n\nEinen ersten Schritt machen wir am Donne
 rstag\, den 13. Februar von 15-16:30 auf dem Ketscher Wochenmarkt. Denn a
 uch wenn Kinder bei der Bundestagswahl leider nicht wahlberechtigt sind\,
  ist ihre Stimme wichtig.Deshalb freuen wir uns zu diesem Termin besonder
 s über Kinder und Familien an unserem Stand am frühen Nachmittag.Unser 
 Bundestagskandidat Dr. Thomas Rink steht für eure Fragen zur Verfügung.
 \n\nKeine Lust auf langweiliges Blabla? Dann malt mit uns die Welt wie si
 e Euch gefällt. Kommt vorbei und lasst Euch überraschen!\n\nDie Grünen
  Ketsch und Euer Grüner Bundestagskandidat freuen sich auf Euch!
CLASS:PUBLIC
DTSTART;TZID=Europe/Berlin:20250213T150000
DTEND;TZID=Europe/Berlin:20250213T163000
DTSTAMP:20260423T003451
END:VEVENT
END:VCALENDAR