BEGIN:VCALENDAR
VERSION:2.0
PRODID:thomas-rink.de
METHOD:PUBLISH
BEGIN:VTIMEZONE
TZID:Europe/Berlin
X-LIC-LOCATION:Europe/Berlin
BEGIN:DAYLIGHT
TZOFFSETFROM:+0100
TZOFFSETTO:+0200
TZNAME:CEST
DTSTART:19700329T020000
RRULE:FREQ=YEARLY;INTERVAL=1;BYDAY=-1SU;BYMONTH=3
END:DAYLIGHT
BEGIN:STANDARD
TZOFFSETFROM:+0200
TZOFFSETTO:+0100
TZNAME:CET
DTSTART:19701025T030000
RRULE:FREQ=YEARLY;INTERVAL=1;BYDAY=-1SU;BYMONTH=10
END:STANDARD
END:VTIMEZONE
BEGIN:VEVENT
UID:ecd7cfbba6b245cc7be5519d82cb2d1b@thomas-rink.de
URL;VALUE=URI:https://thomas-rink.de/termine/fruehstueck-mit-thomas-rink-
 in-wiesental/
LOCATION:Bäckerei Görtz, Wiesental
SUMMARY:Frühstück mit Thomas Rink in Wiesental
DESCRIPTION;ALTREP="data:text/html,%0A%3Cp%3EWir%20laden%20euch%20an%20un
 seren%20Fr%C3%BChst%C3%BCckstisch%20ein%21%3C%2Fp%3E%0A%0A%0A%0A%3Cp%3EKo
 mmt%20mit%20uns%20bei%20Kaffee%2C%20Tee%20und%20frischen%20Br%C3%B6tchen%
 20ins%20Gespr%C3%A4ch.%3C%2Fp%3E%0A%0A%0A%0A%3Cp%3E%3C%2Fp%3E%0A":Wir lad
 en euch an unseren Frühstückstisch ein!\n\nKommt mit uns bei Kaffee\, T
 ee und frischen Brötchen ins Gespräch.
CLASS:PUBLIC
DTSTART;TZID=Europe/Berlin:20250125T080000
DTEND;TZID=Europe/Berlin:20250125T100000
DTSTAMP:20260419T203742
END:VEVENT
END:VCALENDAR